BEGIN:VCALENDAR
VERSION:2.0
PRODID:-//CAP-GPS//Atelier//FR
CALSCALE:GREGORIAN
METHOD:PUBLISH
BEGIN:VTIMEZONE
TZID:Europe/Paris
BEGIN:DAYLIGHT
TZOFFSETFROM:+0100
TZOFFSETTO:+0200
TZNAME:CEST
DTSTART:19700329T020000
RRULE:FREQ=YEARLY;BYMONTH=3;BYDAY=-1SU
END:DAYLIGHT
BEGIN:STANDARD
TZOFFSETFROM:+0200
TZOFFSETTO:+0100
TZNAME:CET
DTSTART:19701025T030000
RRULE:FREQ=YEARLY;BYMONTH=10;BYDAY=-1SU
END:STANDARD
END:VTIMEZONE
BEGIN:VEVENT
DTSTART;TZID=Europe/Paris:20260423T200000
DTEND;TZID=Europe/Paris:20260423T210000
DTSTAMP:20260420T055435
UID:1776657275@cap-gps.com
SUMMARY:Atelier CAP-GPS : Comment sortir du flou et créer une activité qui vous ressemble
DESCRIPTION:Rejoignez-nous pour cet atelier gratuit en visioconférence où vous découvrirez comment créer une activité professionnelle alignée avec qui vous êtes vraiment.\n\nLe lien de connexion vous sera envoyé par e-mail avant l'atelier.
LOCATION:Visioconférence (lien envoyé par e-mail)
STATUS:CONFIRMED
SEQUENCE:0
BEGIN:VALARM
TRIGGER:-PT24H
ACTION:DISPLAY
DESCRIPTION:Rappel : Atelier CAP-GPS demain à 20h00
END:VALARM
BEGIN:VALARM
TRIGGER:-PT1H
ACTION:DISPLAY
DESCRIPTION:Rappel : Atelier CAP-GPS dans 1 heure
END:VALARM
END:VEVENT
END:VCALENDAR